BEGIN:VCALENDAR
VERSION:2.0
PRODID:-//Eaton Community College - ECPv5.1.4//NONSGML v1.0//EN
CALSCALE:GREGORIAN
METHOD:PUBLISH
X-WR-CALNAME:Eaton Community College
X-ORIGINAL-URL:https://www.eatoncc.wa.edu.au
X-WR-CALDESC:Events for Eaton Community College
BEGIN:VTIMEZONE
TZID:UTC
BEGIN:STANDARD
TZOFFSETFROM:+0000
TZOFFSETTO:+0000
TZNAME:UTC
DTSTART:20190101T000000
END:STANDARD
END:VTIMEZONE
BEGIN:VEVENT
DTSTART;TZID=UTC:20200908T173000
DTEND;TZID=UTC:20200908T183000
DTSTAMP:20210228T010726
CREATED:20191209T015841Z
LAST-MODIFIED:20191209T015841Z
UID:1838-1599586200-1599589800@www.eatoncc.wa.edu.au
SUMMARY:College Board Meeting
DESCRIPTION:Located College Boardroom in Administration \n
URL:https://www.eatoncc.wa.edu.au/event/college-board-meeting-14/
END:VEVENT
BEGIN:VEVENT
DTSTART;TZID=UTC:20200907T173000
DTEND;TZID=UTC:20200907T183000
DTSTAMP:20210228T010726
CREATED:20191209T022108Z
LAST-MODIFIED:20191209T022108Z
UID:1862-1599499800-1599503400@www.eatoncc.wa.edu.au
SUMMARY:P&C Meeting
DESCRIPTION:Located College Boardroom in Administration \n
URL:https://www.eatoncc.wa.edu.au/event/pc-meeting-14/
END:VEVENT
BEGIN:VEVENT
DTSTART;TZID=UTC:20200803T173000
DTEND;TZID=UTC:20200803T183000
DTSTAMP:20210228T010726
CREATED:20191209T022033Z
LAST-MODIFIED:20191209T022033Z
UID:1859-1596475800-1596479400@www.eatoncc.wa.edu.au
SUMMARY:P&C Meeting
DESCRIPTION:Located College Boardroom in Administration \n
URL:https://www.eatoncc.wa.edu.au/event/pc-meeting-13/
END:VEVENT
BEGIN:VEVENT
DTSTART;TZID=UTC:20200728T173000
DTEND;TZID=UTC:20200728T183000
DTSTAMP:20210228T010726
CREATED:20191209T015802Z
LAST-MODIFIED:20191209T015802Z
UID:1835-1595957400-1595961000@www.eatoncc.wa.edu.au
SUMMARY:College Board Meeting
DESCRIPTION:Located College Boardroom in Administration \n
URL:https://www.eatoncc.wa.edu.au/event/college-board-meeting-13/
END:VEVENT
BEGIN:VEVENT
DTSTART;VALUE=DATE:20200721
DTEND;VALUE=DATE:20200722
DTSTAMP:20210228T010726
CREATED:20191209T013941Z
LAST-MODIFIED:20191209T013941Z
UID:1811-1595289600-1595375999@www.eatoncc.wa.edu.au
SUMMARY:Students Commence Term 3
DESCRIPTION:
URL:https://www.eatoncc.wa.edu.au/event/students-commence-term-3-2/
LOCATION:Eaton Community College\, 20 Recreation Drive\, EATON\, WA\, 6230\, Australia
END:VEVENT
BEGIN:VEVENT
DTSTART;VALUE=DATE:20200703
DTEND;VALUE=DATE:20200704
DTSTAMP:20210228T010726
CREATED:20191209T013858Z
LAST-MODIFIED:20191209T013858Z
UID:1808-1593734400-1593820799@www.eatoncc.wa.edu.au
SUMMARY:Students Last Day Term 2
DESCRIPTION:
URL:https://www.eatoncc.wa.edu.au/event/students-last-day-term-2/
LOCATION:Eaton Community College\, 20 Recreation Drive\, EATON\, WA\, 6230\, Australia
END:VEVENT
BEGIN:VEVENT
DTSTART;TZID=UTC:20200615T173000
DTEND;TZID=UTC:20200615T183000
DTSTAMP:20210228T010726
CREATED:20200609T002909Z
LAST-MODIFIED:20200609T002909Z
UID:2020-1592242200-1592245800@www.eatoncc.wa.edu.au
SUMMARY:P&C Annual General Meeting
DESCRIPTION:College Meeting Room. All welcome. \n
URL:https://www.eatoncc.wa.edu.au/event/pc-annual-general-meeting/
END:VEVENT
BEGIN:VEVENT
DTSTART;VALUE=DATE:20200604
DTEND;VALUE=DATE:20200605
DTSTAMP:20210228T010726
CREATED:20200511T001119Z
LAST-MODIFIED:20200511T001119Z
UID:1956-1591228800-1591315199@www.eatoncc.wa.edu.au
SUMMARY:Year 10 Meningococcal Vaccination
DESCRIPTION:Year 10 Meningococcal Vaccination \n
URL:https://www.eatoncc.wa.edu.au/event/year-10-meningococcal-vaccination/
LOCATION:Eaton Community College\, 20 Recreation Drive\, EATON\, WA\, 6230\, Australia
END:VEVENT
BEGIN:VEVENT
DTSTART;VALUE=DATE:20200603
DTEND;VALUE=DATE:20200613
DTSTAMP:20210228T010726
CREATED:20200603T060623Z
LAST-MODIFIED:20200603T060623Z
UID:2017-1591142400-1592006399@www.eatoncc.wa.edu.au
SUMMARY:Senior School Exams
DESCRIPTION: \n
URL:https://www.eatoncc.wa.edu.au/event/senior-school-exams/
END:VEVENT
BEGIN:VEVENT
DTSTART;VALUE=DATE:20200429
DTEND;VALUE=DATE:20200430
DTSTAMP:20210228T010726
CREATED:20191209T013750Z
LAST-MODIFIED:20191209T013750Z
UID:1805-1588118400-1588204799@www.eatoncc.wa.edu.au
SUMMARY:Students Commence Term 2
DESCRIPTION:
URL:https://www.eatoncc.wa.edu.au/event/students-commence-term-2-2/
LOCATION:Eaton Community College\, 20 Recreation Drive\, EATON\, WA\, 6230\, Australia
END:VEVENT
BEGIN:VEVENT
DTSTART;VALUE=DATE:20200409
DTEND;VALUE=DATE:20200410
DTSTAMP:20210228T010726
CREATED:20191209T013559Z
LAST-MODIFIED:20191209T013559Z
UID:1802-1586390400-1586476799@www.eatoncc.wa.edu.au
SUMMARY:Students Last Day Term 1
DESCRIPTION:
URL:https://www.eatoncc.wa.edu.au/event/students-last-day-term-1/
LOCATION:Eaton Community College\, 20 Recreation Drive\, EATON\, WA\, 6230\, Australia
END:VEVENT
BEGIN:VEVENT
DTSTART;TZID=UTC:20200324T173000
DTEND;TZID=UTC:20200324T183000
DTSTAMP:20210228T010726
CREATED:20191209T015548Z
LAST-MODIFIED:20191209T015548Z
UID:1826-1585071000-1585074600@www.eatoncc.wa.edu.au
SUMMARY:College Board Meeting
DESCRIPTION:Located College Boardroom in Administration \n
URL:https://www.eatoncc.wa.edu.au/event/college-board-meeting-10/
END:VEVENT
BEGIN:VEVENT
DTSTART;TZID=UTC:20200323T173000
DTEND;TZID=UTC:20200323T183000
DTSTAMP:20210228T010726
CREATED:20191209T021639Z
LAST-MODIFIED:20191209T021639Z
UID:1850-1584984600-1584988200@www.eatoncc.wa.edu.au
SUMMARY:P&C Meeting
DESCRIPTION:Located College Boardroom in Administration \n
URL:https://www.eatoncc.wa.edu.au/event/pc-meeting-10/
END:VEVENT
BEGIN:VEVENT
DTSTART;TZID=UTC:20200313T183000
DTEND;TZID=UTC:20200313T223000
DTSTAMP:20210228T010726
CREATED:20191104T052312Z
LAST-MODIFIED:20200214T032554Z
UID:1724-1584124200-1584138600@www.eatoncc.wa.edu.au
SUMMARY:Senior School Ball
DESCRIPTION:
URL:https://www.eatoncc.wa.edu.au/event/senior-school-ball-2020/
END:VEVENT
BEGIN:VEVENT
DTSTART;VALUE=DATE:20200224
DTEND;VALUE=DATE:20200225
DTSTAMP:20210228T010726
CREATED:20191104T052236Z
LAST-MODIFIED:20191104T053203Z
UID:1721-1582502400-1582588799@www.eatoncc.wa.edu.au
SUMMARY:School Photo Catch Up Day
DESCRIPTION:
URL:https://www.eatoncc.wa.edu.au/event/school-photo-catch-up-day-2020/
LOCATION:Eaton Community College\, 20 Recreation Drive\, EATON\, WA\, 6230\, Australia
END:VEVENT
BEGIN:VEVENT
DTSTART;VALUE=DATE:20200219
DTEND;VALUE=DATE:20200220
DTSTAMP:20210228T010726
CREATED:20191104T052128Z
LAST-MODIFIED:20191104T053222Z
UID:1718-1582070400-1582156799@www.eatoncc.wa.edu.au
SUMMARY:Student Photo Day
DESCRIPTION:
URL:https://www.eatoncc.wa.edu.au/event/student-photo-day-2020/
LOCATION:Eaton Community College\, 20 Recreation Drive\, EATON\, WA\, 6230\, Australia
END:VEVENT
BEGIN:VEVENT
DTSTART;TZID=UTC:20200217T173000
DTEND;TZID=UTC:20200217T183000
DTSTAMP:20210228T010726
CREATED:20191209T020348Z
LAST-MODIFIED:20191209T020348Z
UID:1847-1581960600-1581964200@www.eatoncc.wa.edu.au
SUMMARY:P&C Meeting
DESCRIPTION:Located College Boardroom in Administration \n
URL:https://www.eatoncc.wa.edu.au/event/pc-meeting-9/
END:VEVENT
BEGIN:VEVENT
DTSTART;TZID=UTC:20200211T173000
DTEND;TZID=UTC:20200211T183000
DTSTAMP:20210228T010726
CREATED:20191209T015457Z
LAST-MODIFIED:20191209T015457Z
UID:1823-1581442200-1581445800@www.eatoncc.wa.edu.au
SUMMARY:College Board Meeting
DESCRIPTION:Located College Boardroom in Administration \n
URL:https://www.eatoncc.wa.edu.au/event/college-board-meeting-9/
END:VEVENT
BEGIN:VEVENT
DTSTART;VALUE=DATE:20200203
DTEND;VALUE=DATE:20200204
DTSTAMP:20210228T010726
CREATED:20191025T041829Z
LAST-MODIFIED:20191025T041829Z
UID:1709-1580688000-1580774399@www.eatoncc.wa.edu.au
SUMMARY:Students Commence Term 1
DESCRIPTION:Students Commence Term 1 \n
URL:https://www.eatoncc.wa.edu.au/event/students-commence-term-1/
LOCATION:Eaton Community College\, 20 Recreation Drive\, EATON\, WA\, 6230\, Australia
END:VEVENT
BEGIN:VEVENT
DTSTART;TZID=UTC:20200131T083000
DTEND;TZID=UTC:20200131T123000
DTSTAMP:20210228T010726
CREATED:20191209T004244Z
LAST-MODIFIED:20191209T004244Z
UID:1799-1580459400-1580473800@www.eatoncc.wa.edu.au
SUMMARY:Uniform Concepts Open 8.30am - 12.30pm
DESCRIPTION:Prior to 2020 school year commencing. \n
URL:https://www.eatoncc.wa.edu.au/event/uniform-concepts-open-8-30am-12-30pm/
LOCATION:Eaton Community College\, 20 Recreation Drive\, EATON\, WA\, 6230\, Australia
END:VEVENT
BEGIN:VEVENT
DTSTART;TZID=UTC:20200124T100000
DTEND;TZID=UTC:20200124T140000
DTSTAMP:20210228T010726
CREATED:20191209T004141Z
LAST-MODIFIED:20191209T004141Z
UID:1796-1579860000-1579874400@www.eatoncc.wa.edu.au
SUMMARY:Uniform Concepts Open 10.00am - 2.00pm
DESCRIPTION:Prior to 2020 school year commencing. \n
URL:https://www.eatoncc.wa.edu.au/event/uniform-concepts-open-10-00am-2-00pm/
LOCATION:Eaton Community College\, 20 Recreation Drive\, EATON\, WA\, 6230\, Australia
END:VEVENT
BEGIN:VEVENT
DTSTART;VALUE=DATE:20191219
DTEND;VALUE=DATE:20191220
DTSTAMP:20210228T010726
CREATED:20190319T020136Z
LAST-MODIFIED:20190319T020136Z
UID:1462-1576713600-1576799999@www.eatoncc.wa.edu.au
SUMMARY:Students Last Day Term 4
DESCRIPTION:Students last day of Term 4. We wish you a safe and happy holidays. \n
URL:https://www.eatoncc.wa.edu.au/event/students-last-day-term-4/
LOCATION:Eaton Community College\, 20 Recreation Drive\, EATON\, WA\, 6230\, Australia
END:VEVENT
BEGIN:VEVENT
DTSTART;TZID=UTC:20191217T120000
DTEND;TZID=UTC:20191217T133000
DTSTAMP:20210228T010726
CREATED:20190730T061434Z
LAST-MODIFIED:20190730T061434Z
UID:1644-1576584000-1576589400@www.eatoncc.wa.edu.au
SUMMARY:End of Year Awards Years 7-11 2019
DESCRIPTION:
URL:https://www.eatoncc.wa.edu.au/event/end-of-year-awards-years-7-11-2019/
END:VEVENT
BEGIN:VEVENT
DTSTART;TZID=UTC:20191210T173000
DTEND;TZID=UTC:20191210T183000
DTSTAMP:20210228T010726
CREATED:20190319T023458Z
LAST-MODIFIED:20190319T023458Z
UID:1567-1575999000-1576002600@www.eatoncc.wa.edu.au
SUMMARY:College Board Meeting
DESCRIPTION:Meeting located in the College Boardroom. \n
URL:https://www.eatoncc.wa.edu.au/event/college-board-meeting-8/
LOCATION:Eaton Community College\, 20 Recreation Drive\, EATON\, WA\, 6230\, Australia
END:VEVENT
BEGIN:VEVENT
DTSTART;VALUE=DATE:20191205
DTEND;VALUE=DATE:20191207
DTSTAMP:20210228T010726
CREATED:20191125T040102Z
LAST-MODIFIED:20191125T040102Z
UID:1746-1575504000-1575676799@www.eatoncc.wa.edu.au
SUMMARY:Year 7 2020 Transition Days
DESCRIPTION:
URL:https://www.eatoncc.wa.edu.au/event/year-7-2020-transition-days/
LOCATION:Eaton Community College\, 20 Recreation Drive\, EATON\, WA\, 6230\, Australia
END:VEVENT
BEGIN:VEVENT
DTSTART;TZID=UTC:20191202T173000
DTEND;TZID=UTC:20191202T183000
DTSTAMP:20210228T010726
CREATED:20190319T022735Z
LAST-MODIFIED:20190319T022735Z
UID:1511-1575307800-1575311400@www.eatoncc.wa.edu.au
SUMMARY:P&C Meeting
DESCRIPTION:All welcome. Meeting held in our College Boardroom. \n
URL:https://www.eatoncc.wa.edu.au/event/pc-meeting-8/
LOCATION:Eaton Community College\, 20 Recreation Drive\, EATON\, WA\, 6230\, Australia
END:VEVENT
BEGIN:VEVENT
DTSTART;TZID=UTC:20191105T173000
DTEND;TZID=UTC:20191105T183000
DTSTAMP:20210228T010726
CREATED:20190319T023421Z
LAST-MODIFIED:20190319T023421Z
UID:1559-1572975000-1572978600@www.eatoncc.wa.edu.au
SUMMARY:College Board Meeting
DESCRIPTION:Meeting located in the College Boardroom. \n
URL:https://www.eatoncc.wa.edu.au/event/college-board-meeting-7/
LOCATION:Eaton Community College\, 20 Recreation Drive\, EATON\, WA\, 6230\, Australia
END:VEVENT
BEGIN:VEVENT
DTSTART;TZID=UTC:20191028T173000
DTEND;TZID=UTC:20191028T183000
DTSTAMP:20210228T010726
CREATED:20190319T022124Z
LAST-MODIFIED:20190319T022124Z
UID:1507-1572283800-1572287400@www.eatoncc.wa.edu.au
SUMMARY:P&C Meeting
DESCRIPTION:All welcome. Meeting held in our College Boardroom. \n
URL:https://www.eatoncc.wa.edu.au/event/pc-meeting-7/
LOCATION:Eaton Community College\, 20 Recreation Drive\, EATON\, WA\, 6230\, Australia
END:VEVENT
BEGIN:VEVENT
DTSTART;VALUE=DATE:20191014
DTEND;VALUE=DATE:20191015
DTSTAMP:20210228T010726
CREATED:20190319T015951Z
LAST-MODIFIED:20190319T015951Z
UID:1454-1571011200-1571097599@www.eatoncc.wa.edu.au
SUMMARY:Students Commence Term 4
DESCRIPTION:
URL:https://www.eatoncc.wa.edu.au/event/students-commence-term-4/
LOCATION:Eaton Community College\, 20 Recreation Drive\, EATON\, WA\, 6230\, Australia
END:VEVENT
BEGIN:VEVENT
DTSTART;VALUE=DATE:20190927
DTEND;VALUE=DATE:20190928
DTSTAMP:20210228T010726
CREATED:20190319T015908Z
LAST-MODIFIED:20190319T020230Z
UID:1448-1569542400-1569628799@www.eatoncc.wa.edu.au
SUMMARY:Students Last Day Term 3
DESCRIPTION:Students last day of Term 3. \n
URL:https://www.eatoncc.wa.edu.au/event/last-day-term-3/
LOCATION:Eaton Community College\, 20 Recreation Drive\, EATON\, WA\, 6230\, Australia
END:VEVENT
END:VCALENDAR