BEGIN:VCALENDAR
VERSION:2.0
PRODID:-//Eaton Community College - ECPv5.1.4//NONSGML v1.0//EN
CALSCALE:GREGORIAN
METHOD:PUBLISH
X-WR-CALNAME:Eaton Community College
X-ORIGINAL-URL:https://www.eatoncc.wa.edu.au
X-WR-CALDESC:Events for Eaton Community College
BEGIN:VTIMEZONE
TZID:UTC
BEGIN:STANDARD
TZOFFSETFROM:+0000
TZOFFSETTO:+0000
TZNAME:UTC
DTSTART:20210101T000000
END:STANDARD
END:VTIMEZONE
BEGIN:VEVENT
DTSTART;VALUE=DATE:20210401
DTEND;VALUE=DATE:20210402
DTSTAMP:20210228T010836
CREATED:20210212T032456Z
LAST-MODIFIED:20210212T032456Z
UID:2286-1617235200-1617321599@www.eatoncc.wa.edu.au
SUMMARY:Students Last Day Term 1
DESCRIPTION:
URL:https://www.eatoncc.wa.edu.au/event/students-last-day-term-1-2/
END:VEVENT
END:VCALENDAR