BEGIN:VCALENDAR
VERSION:2.0
PRODID:-//Eaton Community College - ECPv5.1.4//NONSGML v1.0//EN
CALSCALE:GREGORIAN
METHOD:PUBLISH
X-WR-CALNAME:Eaton Community College
X-ORIGINAL-URL:https://www.eatoncc.wa.edu.au
X-WR-CALDESC:Events for Eaton Community College
BEGIN:VTIMEZONE
TZID:UTC
BEGIN:STANDARD
TZOFFSETFROM:+0000
TZOFFSETTO:+0000
TZNAME:UTC
DTSTART:20210101T000000
END:STANDARD
END:VTIMEZONE
BEGIN:VEVENT
DTSTART;VALUE=DATE:20210420
DTEND;VALUE=DATE:20210421
DTSTAMP:20210228T010850
CREATED:20210212T032519Z
LAST-MODIFIED:20210212T032519Z
UID:2295-1618876800-1618963199@www.eatoncc.wa.edu.au
SUMMARY:Students Commence Term 2
DESCRIPTION:
URL:https://www.eatoncc.wa.edu.au/event/students-commence-term-2-3/
END:VEVENT
END:VCALENDAR