BEGIN:VCALENDAR
VERSION:2.0
PRODID:-//Eaton Community College - ECPv5.1.4//NONSGML v1.0//EN
CALSCALE:GREGORIAN
METHOD:PUBLISH
X-WR-CALNAME:Eaton Community College
X-ORIGINAL-URL:https://www.eatoncc.wa.edu.au
X-WR-CALDESC:Events for Eaton Community College
BEGIN:VTIMEZONE
TZID:UTC
BEGIN:STANDARD
TZOFFSETFROM:+0000
TZOFFSETTO:+0000
TZNAME:UTC
DTSTART:20210101T000000
END:STANDARD
END:VTIMEZONE
BEGIN:VEVENT
DTSTART;TZID=UTC:20210628T080000
DTEND;TZID=UTC:20210702T170000
DTSTAMP:20210228T010919
CREATED:20210212T033821Z
LAST-MODIFIED:20210212T033821Z
UID:2321-1624867200-1625245200@www.eatoncc.wa.edu.au
SUMMARY:Country Week
DESCRIPTION:
URL:https://www.eatoncc.wa.edu.au/event/country-week-2/
END:VEVENT
END:VCALENDAR