BEGIN:VCALENDAR
VERSION:2.0
PRODID:-//Eaton Community College - ECPv5.1.4//NONSGML v1.0//EN
CALSCALE:GREGORIAN
METHOD:PUBLISH
X-WR-CALNAME:Eaton Community College
X-ORIGINAL-URL:https://www.eatoncc.wa.edu.au
X-WR-CALDESC:Events for Eaton Community College
BEGIN:VTIMEZONE
TZID:UTC
BEGIN:STANDARD
TZOFFSETFROM:+0000
TZOFFSETTO:+0000
TZNAME:UTC
DTSTART:20210101T000000
END:STANDARD
END:VTIMEZONE
BEGIN:VEVENT
DTSTART;VALUE=DATE:20210326
DTEND;VALUE=DATE:20210327
DTSTAMP:20210225T130435
CREATED:20210216T031756Z
LAST-MODIFIED:20210216T031756Z
UID:2364-1616716800-1616803199@www.eatoncc.wa.edu.au
SUMMARY:Athletics Carnival - Whole School
DESCRIPTION:
URL:https://www.eatoncc.wa.edu.au/event/athletics-carnival-whole-school/
END:VEVENT
END:VCALENDAR